Workbook

Sheet data
B1: TPR1 | C1: srtsubt | D1: במסחר ושירותים | E1: imp | F1: EPB
B2: תעשיה | C2: מסחר | D2: פדיון | E2: 2011=100 | F2: שכירים
A3: 27425 | B3: 19.905749 | C3: 24.979253 | E3: 11.966293 | F3: 704.1274
A4: 27453 | B4: 19.041474 | C4: 25.995851 | E4: 11.614322 | F4: 701.33109
A5: 27484 | B5: 19.223156 | C5: 24.688797 | E5: 10.892561 | F5: 706.15608
A6: 27514 | B6: 19.547527 | C6: 26.818811 | E6: 11.722109 | F6: 709.16132
A7: 27545 | B7: 19.390269 | C7: 26.189488 | E7: 10.700895 | F7: 706.35848
A8: 27575 | B8: 19.925031 | C8: 27.109267 | E8: 11.212403 | F8: 711.65263
A9: 27606 | B9: 20.473505 | C9: 27.060858 | E9: 10.867716 | F9: 709.37865
A10: 27637 | B10: 21.536173 | C10: 29.239281 | E10: 10.900565 | F10: 712.34471
A11: 27667 | B11: 21.416195 | C11: 30.449516 | E11: 10.414982 | F11: 720.27008
A12: 27698 | B12: 21.321926 | C12: 29.868603 | E12: 10.947061 | F12: 712.04437
A13: 27728 | B13: 21.424764 | C13: 29.723375 | E13: 9.9297498 | F13: 715.94783
A14: 27759 | B14: 21.163382 | C14: 31.562932 | E14: 13.074903 | F14: 715.11118
... A194: 33238 | B194: 33.384068 | C194: 70.4 | E194: 26.342498 | F194: 939.93529
A195: 33269 | B195: 31.226594 | C195: 73.2 | D195: 29.109941 | E195: 24.816646 | F195: 929.40575
A196: 33297 | B196: 32.021453 | C196: 67.5 | D196: 28.719203 | E196: 24.692002 | F196: 926.56187
A197: 33328 | B197: 33.781497 | C197: 72.5 | D197: 32.235837 | E197: 28.296026 | F197: 970.54453
A198: 33358 | B198: 34.349253 | C198: 71.4 | D198: 33.359208 | E198: 28.91318 | F198: 1003.6936
A199: 33389 | B199: 34.917009 | C199: 72.4 | D199: 33.994157 | E199: 28.96975 | F199: 1020.893
A200: 33419 | B200: 35.087336 | C200: 72.5 | D200: 35.459424 | E200: 32.785255 | F200: 1021.6075
A201: 33450 | B201: 35.200888 | C201: 72.1 | D201: 35.019844 | E201: 33.245772 | F201: 1033.261
A202: 33481 | B202: 35.882195 | C202: 73.8 | D202: 34.873317 | E202: 32.709527 | F202: 1036.6804
A203: 33511 | B203: 34.462804 | C203: 72.4 | D203: 33.896472 | E203: 27.393674 | F203: 1040.8655
A204: 33542 | B204: 35.82542 | C204: 74.6 | D204: 35.752477 | E204: 34.409538 | F204: 1055.1231
A205: 33572 | B205: 35.82542 | C205: 72.6 | D205: 34.091841 | E205: 30.219915 | F205: 1063.4346
A206: 33603 | B206: 35.42799 | C206: 74.5 | D206: 34.971002 | E206: 32.108151 | F206: 1066.0453
... A317: 36981 | B317: 55.709584 | C317: 149.55821 | D317: 69.176312 | E317: 72.6165 | F317: 1565.442
A318: 37011 | B318: 54.616472 | D318: 69.031894 | E318: 71.993504 | F318: 1566.995
A319: 37042 | B319: 53.648741 | D319: 68.093176 | E319: 71.692766 | F319: 1553.434
A320: 37072 | B320: 51.873035 | D320: 66.215739 | E320: 63.119362 | F320: 1550.272
A321: 37103 | B321: 53.136245 | D321: 67.659921 | E321: 65.714228 | F321: 1543.841
A322: 37134 | B322: 52.447021 | D322: 69.39294 | E322: 67.41144 | F322: 1544.513
A323: 37164 | B323: 52.754759 | D323: 67.587712 | E323: 66.754535 | F323: 1526.553
A324: 37195 | B324: 52.286266 | D324: 67.515503 | E324: 66.162506 | F324: 1536.897
A325: 37225 | B325: 51.67762 | D325: 67.659921 | E325: 66.488604 | F325: 1527.6
A326: 37256 | B326: 51.602272 | D326: 67.371085 | E326: 68.850291 | F326: 1523.302
A327: 37287 | B327: 51.232644 | D327: 69.248521 | E327: 73.665869 | F327: 1531.323
A328: 37315 | B328: 51.651304 | D328: 68.237594 | E328: 67.109483 | F328: 1529.824
A329: 37346 | B329: 52.445422 | D329: 66.360158 | E329: 64.205788 | F329: 1530.577
...

Sheet Misrot update
A1: TABLE 6. EMPLOYEE JOBS AND AVERAGE WAGES PER EMPLOYEE JOB, BY SECTOR AND SUB-SECTOR | Y1: לוח 6. משרות שכיר ושכר ממוצע למשרת שכיר, לפי מגזר ותת-מגזר
E4: מלכ"רים פרטיים | F4: משקי בית | G4: מגזר ממשלתי | K4: חברות פיננסיות | P4: חברות לא פיננסיות | U4: סך כולל
G5: GENERAL GOVERNMENT | K5: FINANCIAL CORPORATIONS | P5: NON-FINANCIAL CORPORATIONS
G6: Thereof: | I6: מזה: | J6: סך הכל | K6: Thereof: | N6: מזה: | O6: סך הכל | P6: Thereof: | S6: מזה: | T6: סך הכל
R7: חברות ממשלתיות
G8: מלכ"רים ציבוריים | H8: רשויות מקומיות | I8: ממשלה מרכזית, ביטוח לאומי ומוסדות לאומיים | K8: מוסדות ביטוח וקרנות פנסיה | L8: מוסדות עזר פיננסי, מוסדות פיננסיים שובים ומלווי כסף | M8: מתווכים פיננסיים אחרים | N8: מוסדות פיננסים מוניטריים | P8: קואפרטיבים | Q8: חברות פרטיות | R8: Government corporations
I9: ממשלה מרכזית, ביטוח לאומי ומוסדות לאומיים | R9: מזה: בתי חולים (1) | S9: סך הכל
R10: Thereof: Hospitals (1) | S10: Total
E12: PRIVATE NON-PROFIT INSTITUTIONS | F12: HOUSE-HOLDS | G12: Public non-profit institutions | H12: Local authorities | I12: Central government, National Insurance Institute and national institutions | J12: Total | K12: Insurance corporations and pension funds | L12: Financial auxilaries, captive financial institutions and money lenders | M12: Other Financial intermediaries | N12: Monetary Financial institutions | O12: Total | P12: Cooperatives | Q12: Private corporation | T12: Total | U12: Grand toal
E15: Employee jobs (thousands) | U15: משרות שכיר (אלפים) | AB15: סכום מגזר פיננסי ומגזר לא-פיננסי
A18: 2021 | C18: I-XII | E18: 265.0015 | F18: 221.75733 | G18: 292.47892 | H18: 180.49692 | I18: 264.17142 | J18: 737.14725 | K18: 20.127417 | L18: 39.901083 | M18: 6.381417 | N18: 33.301667 | O18: 99.711583 | P18: 57.7245 | Q18: 2085.3021 | R18: 89.40575 | S18: 156.79258 | T18: 2299.8192 | U18: 3623.4278 | W18: I-XII | Y18: 2021
A19: 2022 | C19: I-XII | E19: 292.798 | F19: 280.31525 | G19: 309.20717 | H19: 186.89708 | I19: 267.1035 | J19: 763.20775 | K19: 20.649083 | L19: 42.5785 | M19: 6.67675 | N19: 34.321 | O19: 104.22533 | P19: 61.276667 | Q19: 2276.3631 | R19: 91.462 | S19: 165.36483 | T19: 2503.0046 | U19: 3943.5478 | W19: I-XII | Y19: 2022
A20: 2023 | C20: I-XII | E20: 301.711 | F20: 229.22358 | G20: 318.41025 | H20: 195.73683 | I20: 274.03525 | J20: 788.18233 | K20: 21.00625 | L20: 44.58075 | M20: 7.3705 | N20: 34.136083 | O20: 107.09358 | P20: 54.68 | Q20: 2337.6867 | R20: 94.036083 | S20: 171.83733 | T20: 2564.204 | U20: 3990.4098 | W20: I-XII | Y20: 2023
A21: 2023 | C21: II | E21: 303.026 | F21: 228.448 | G21: 325.931 | H21: 192.104 | I21: 273.862 | J21: 791.897 | K21: 20.953 | L21: 45.105 | M21: 7.286 | N21: 33.712 | O21: 107.056 | P21: 52.548 | Q21: 2342.779 | R21: 93.646 | S21: 170.395 | T21: 2565.722 | U21: 3996.153 | W21: II | Y21: 2023 | AB21: =T21+O21 -> 2672.778
C22: III | E22: 306.756 | F22: 231.943 | G22: 329.512 | H22: 193.749 | I22: 274.225 | J22: 797.486 | K22: 21.14 | L22: 45.234 | M22: 7.364 | N22: 33.769 | O22: 107.507 | P22: 54.129 | Q22: 2373.333 | R22: 93.168 | S22: 170.505 | T22: 2597.967 | U22: 4041.66 | W22: III | AB22: =T22+O22 -> 2705.474 | AD22: 2112.909
C23: IV | E23: 309.226 | F23: 231.015 | G23: 329.359 | H23: 193.873 | I23: 266.226 | J23: 789.458 | K23: 21.02 | L23: 44.625 | M23: 7.302 | N23: 33.738 | O23: 106.685 | P23: 54.864 | Q23: 2336.595 | R23: 92.988 | S23: 170.849 | T23: 2562.308 | U23: 3998.678 | W23: IV | AB23: =T23+O23 -> 2668.993 | AD23: 2132.303
C24: V | E24: 306.127 | F24: 233.486 | G24: 326.958 | H24: 194.224 | I24: 270.957 | J24: 792.139 | K24: 21.193 | L24: 45.126 | M24: 7.359 | N24: 34.1 | O24: 107.778 | P24: 54.486 | Q24: 2387.694 | R24: 93.192 | S24: 171.387 | T24: 2613.567 | U24: 4053.092 | W24: V | AB24: =T24+O24 -> 2721.345 | AD24: 2116.293
C25: VI | E25: 307.228 | F25: 238.483 | G25: 334.155 | H25: 195.981 | I25: 286.194 | J25: 816.33 | K25: 21.163 | L25: 44.878 | M25: 7.463 | N25: 34.931 | O25: 108.435 | P25: 55.993 | Q25: 2402.153 | R25: 94.63 | S25: 173.53 | T25: 2631.676 | U25: 4102.148 | W25: VI | AB25: =T25+O25 -> 2740.111 | AD25: 2150.493
C26: VII | E26: 312.797 | F26: 240.601 | G26: 328.226 | H26: 196.874 | I26: 284.409 | J26: 809.509 | K26: 21.148 | L26: 45.086 | M26: 7.52 | N26: 34.9 | O26: 108.654 | P26: 58.363 | Q26: 2402.19 | R26: 94.779 | S26: 174.086 | T26: 2634.639 | U26: 4106.205 | W26: VII | AB26: =T26+O26 -> 2743.293 | AD26: 2159.525
C27: VIII | E27: 289.7 | F27: 239.026 | G27: 296.744 | H27: 190.597 | I27: 273.207 | J27: 760.548 | K27: 21.018 | L27: 45.077 | M27: 7.538 | N27: 33.949 | O27: 107.582 | P27: 58.491 | Q27: 2398.388 | R27: 94.01 | S27: 172.087 | T27: 2628.966 | U27: 4025.81 | W27: VIII | AB27: =T27+O27 -> 2736.548 | AD27: 2177.994
C28: IX | E28: 292.683 | F28: 235.966 | G28: 293.615 | H28: 196.015 | I28: 267.146 | J28: 756.776 | K28: 20.982 | L28: 44.707 | M28: 7.404 | N28: 34.08 | O28: 107.173 | P28: 55.171 | Q28: 2356.874 | R28: 94.295 | S28: 171.7 | T28: 2583.745 | U28: 3976.335 | W28: IX | AB28: =T28+O28 -> 2690.918 | AD28: 2159.302
C29: X | E29: 287.519 | F29: 224.074 | G29: 295.007 | H29: 197.889 | I29: 269.047 | J29: 761.943 | K29: 20.778 | L29: 44.2 | M29: 7.267 | N29: 34.228 | O29: 106.473 | P29: 54.609 | Q29: 2285.527 | R29: 94.742 | S29: 172.049 | T29: 2512.185 | U29: 3892.19 | W29: X | AB29: =T29+O29 -> 2618.658 | AD29: 2103.784
C30: XI | E30: 292.257 | F30: 208.041 | G30: 306.137 | H30: 201.952 | I30: 273.596 | J30: 781.685 | K30: 20.831 | L30: 42.927 | M30: 7.32 | N30: 34.165 | O30: 105.243 | P30: 52.052 | Q30: 2183.681 | R30: 94.635 | S30: 171.961 | T30: 2407.694 | U30: 3794.913 | W30: XI | AB30: =T30+O30 -> 2512.937 | AD30: 2124.695
C31: XII | E31: 311.109 | F31: 212.186 | G31: 327.102 | H31: 204.1 | I31: 275.182 | J31: 806.384 | K31: 20.819 | L31: 42.968 | M31: 7.335 | N31: 34.302 | O31: 105.424 | P31: 52.669 | Q31: 2227.014 | R31: 95.154 | S31: 173.539 | T31: 2453.222 | U31: 3888.319 | W31: XII | AB31: =T31+O31 -> 2558.646 | AD31: 2113.637
A32: 2024 | B32: R | C32: I | E32: 309.456 | F32: 220.441 | G32: 329.399 | H32: 200.561 | I32: 278.54 | J32: 808.5 | K32: 20.682 | L32: 43.553 | M32: 7.364 | N32: 34.277 | O32: 105.876 | P32: 50.994 | Q32: 2250.452 | R32: 95.147 | S32: 173.977 | T32: 2475.423 | U32: 3919.684 | W32: I | X32: R | Y32: 2024 | AB32: =T32+O32 -> 2581.299 | AD32: 2113.157
C33: II | E33: 313.015 | F33: 230.752 | G33: 332.514 | H33: 201.205 | I33: 278.392 | J33: 812.111 | K33: 20.664 | L33: 43.22 | M33: 7.386 | N33: 34.132 | O33: 105.402 | P33: 50.827 | Q33: 2265.988 | R33: 95.766 | S33: 174.942 | T33: 2491.757 | U33: 3953.039 | W33: II | AB33: =T33+O33 -> 2597.159
C34: III | E34: 315.845 | F34: 232.996 | G34: 334.097 | H34: 201.936 | I34: 282.538 | J34: 818.571 | K34: 20.64 | L34: 43.287 | M34: 7.33 | N34: 34.201 | O34: 105.458 | P34: 51.499 | Q34: 2298.926 | R34: 95.711 | S34: 175.325 | T34: 2525.75 | U34: 3998.61 | W34: III | AB34: =T34+O34 -> 2631.208
C35: IV | D35: * | E35: 318.239 | F35: 233.7 | G35: 333.462 | H35: 200.864 | I35: 282.192 | J35: 816.518 | K35: 20.513 | L35: 42.725 | M35: 7.248 | N35: 33.93 | O35: 104.416 | P35: 52.689 | Q35: 2292.058 | R35: 95.953 | S35: 176.116 | T35: 2520.863 | U35: 3993.74 | V35: * | W35: IV | AB35: =T35+O35 -> 2625.279
C36: V | D36: * | E36: 316.105 | F36: 237.549 | G36: 332.616 | H36: 201.431 | I36: 281.774 | J36: 815.821 | K36: 20.614 | L36: 43.175 | M36: 7.293 | N36: 34.388 | O36: 105.47 | P36: 52.136 | Q36: 2314.869 | R36: 96.25 | S36: 176.375 | T36: 2543.38 | U36: 4018.315 | V36: * | W36: V | AB36: =T36+O36 -> 2648.85
E37: Average wages per emloyee job at current prices (NIS) | U37: שכר ממוצע למשרת שכיר במחירים שוטפים (ש"ח)
A38: 2021 | C38: I-XII | E38: 6384.924 | F38: 5188.4574 | G38: 9421.4905 | H38: 9202.1331 | I38: 14595.796 | J38: 11222.095 | K38: 17198.276 | L38: 18891.56 | M38: 19039.402 | N38: 24710.28 | O38: 20502.557 | P38: 10305.389 | Q38: 12415.518 | R38: 17497.453 | S38: 19727.102 | T38: 12861.03 | U38: 11794.719 | W38: I-XII | Y38: 2021
A39: 2022 | C39: I-XII | E39: 6448.4804 | F39: 5849.7109 | G39: 9397.4355 | H39: 9403.4613 | I39: 14973.329 | J39: 11350.333 | K39: 18648.913 | L39: 19475.398 | M39: 20010.793 | N39: 27429.881 | O39: 21965.334 | P39: 10805.55 | Q39: 12906.73 | R39: 17635.51 | S39: 19708.311 | T39: 13304.647 | U39: 12116.365 | W39: I-XII | Y39: 2022
A40: 2023 | C40: I-XII | E40: 6769.0547 | F40: 5509.8145 | G40: 9836.6756 | H40: 10438.35 | I40: 16438.739 | J40: 12281.501 | K40: 18560.276 | L40: 20087.703 | M40: 22718.845 | N40: 28773.488 | O40: 22737.778 | P40: 10500.846 | Q40: 13583.562 | R40: 18719.711 | S40: 20834.53 | T40: 14003.741 | U40: 12863.054 | W40: I-XII | Y40: 2023
A41: 2023 | C41: II | E41: 6321.4636 | F41: 5385.4995 | G41: 9093.8127 | H41: 9120.2068 | I41: 15751.965 | J41: 11402.807 | K41: 17832.459 | L41: 23586.73 | M41: 20154.672 | N41: 23591.845 | O41: 22228.536 | P41: 10219.183 | Q41: 13326.648 | R41: 17254.638 | S41: 19410.357 | T41: 13667.037 | U41: 12417.252 | W41: II | Y41: 2023
C42: III | E42: 6599.6728 | F42: 5491.8585 | G42: 9501.9274 | H42: 11801.029 | I42: 16759.869 | J42: 12556.223 | K42: 22979.068 | L42: 24586.555 | M42: 31615.21 | N42: 29355.544 | O42: 26249.895 | P42: 11284.616 | Q42: 14584.871 | R42: 19290.514 | S42: 22063.814 | T42: 15006.954 | U42: 13638.287 | W42: III
C43: IV | E43: 6329.6412 | F43: 5239.1232 | G43: 9196.2834 | H43: 9661.7213 | I43: 15071.777 | J43: 11291.955 | K43: 19244.493 | L43: 19279.332 | M43: 30207.013 | N43: 50522.68 | O43: 29900.785 | P43: 10529.379 | Q43: 13291.863 | R43: 17639.632 | S43: 19937.5 | T43: 13675.829 | U43: 12582.604 | W43: IV
C44: V | E44: 6592.9873 | F44: 5503.5462 | G44: 9194.5502 | H44: 9763.975 | I44: 15256.346 | J44: 11407.649 | K44: 17362.466 | L44: 19243.802 | M44: 19854.18 | N44: 33811.606 | O44: 23524.664 | P44: 10495.813 | Q44: 13012.21 | R44: 17298.433 | S44: 19382.13 | T44: 13377.463 | U44: 12296.309 | W44: V
C45: VI | E45: 7309.319 | F45: 5457.1433 | G45: 11251.809 | H45: 12915.329 | I45: 20100.382 | J45: 14753.367 | K45: 19172.935 | L45: 18717.181 | M45: 21018.987 | N45: 25947.377 | O45: 21293.669 | P45: 10347.205 | Q45: 13289.073 | R45: 20594.774 | S45: 22612.539 | T45: 13841.26 | U45: 13243.152 | W45: VI
C46: VII | E46: 7084.5176 | F46: 5632.1031 | G46: 10329.949 | H46: 10729.694 | I46: 16671.325 | J46: 12655.116 | K46: 20003.803 | L46: 18916.568 | M46: 23043.613 | N46: 25347.102 | O46: 21479.326 | P46: 10475.833 | Q46: 13402.384 | R46: 18481.489 | S46: 21148.007 | T46: 13849.353 | U46: 12818.989 | W46: VII
C47: VIII | E47: 6966.3124 | F47: 5651.7498 | G47: 10345.767 | H47: 10959.146 | I47: 15892.026 | J47: 12491.832 | K47: 18531.298 | L47: 18957.199 | M47: 20097.237 | N47: 25087.874 | O47: 20888.492 | P47: 10001.01 | Q47: 13340.878 | R47: 22827.851 | S47: 23612.132 | T47: 13938.907 | U47: 12857.495 | W47: VIII
...

Sheet MISROT
B1: משרות סקטור עסקי - לא מנוכה | C1: משרות סקטור עסקי - מנוכה | D1: מקדם עונתיות
B2: MISROT_BI | C2: MISROT_BI_SA | D2: ratio | H2: 2015 | I2: 2014 | J2: 2013 | K2: 2012 | M2: New seas factors dec15
A3: 34335 | B3: 1182.043 | C3: 1199.302 | D3: 1.0146009 | G3: Jan | H3: 0.99794328 | I3: 0.99831318 | J3: 0.99765546 | K3: 0.99813087 | M3: =AVERAGE(H3:K3) -> 0.9980107
A4: 34366 | B4: 1190.959 | C4: 1210.73 | D4: 1.0166013 | G4: Feb | H4: 1.002281 | I4: 1.0015883 | J4: 1.0018765 | K4: 1.001266 | M4: =AVERAGE(H4:K4) -> 1.001753
A5: 34394 | B5: 1217.211 | C5: 1224.288 | D5: 1.0058141 | G5: Mar | H5: 0.99104865 | I5: 0.99269905 | J5: 0.99066038 | K5: 0.9924262 | M5: =AVERAGE(H5:K5) -> 0.99170857
A6: 34425 | B6: 1225.771 | C6: 1239.786 | D6: 1.0114332 | G6: Apr | H6: 0.99952512 | I6: 0.9976415 | J6: 1.0011738 | K6: 1.0006024 | M6: =AVERAGE(H6:K6) -> 0.99973571
A7: 34455 | B7: 1253.836 | C7: 1252.406 | D7: 0.99885975 | G7: May | H7: 0.98456295 | I7: 0.98455934 | J7: 0.9840567 | K7: 0.98459376 | M7: =AVERAGE(H7:K7) -> 0.98444319
A8: 34486 | B8: 1280.601 | C8: 1264.413 | D8: 0.98735914 | G8: Jun | H8: 0.97637986 | I8: 0.97668196 | J8: 0.97674028 | K8: 0.97690769 | M8: =AVERAGE(H8:K8) -> 0.97667745
A9: 34516 | B9: 1305.116 | C9: 1273.024 | D9: 0.97541031 | G9: Jul | H9: 0.97268762 | I9: 0.97208308 | J9: 0.9719797 | K9: 0.97230366 | M9: =AVERAGE(H9:K9) -> 0.97226352
A10: 34547 | B10: 1306.266 | C10: 1281.577 | D10: 0.98109948 | G10: Aug | H10: 0.98292509 | I10: 0.98268366 | J10: 0.98224147 | K10: 0.9819005 | M10: =AVERAGE(H10:K10) -> 0.98243768
A11: 34578 | B11: 1256.507 | C11: 1255.276 | D11: 0.99902084 | G11: Sep | H11: 1.0059598 | I11: 0.99838824 | J11: 1.0092002 | K11: 1.0017918 | M11: =AVERAGE(H11:K11) -> 1.003835
A12: 34608 | B12: 1290.739 | C12: 1292.2 | D12: 1.0011316 | G12: Oct | I12: 1.0030541 | J12: 0.99180816 | K12: 0.99794022 | M12: =AVERAGE(H12:K12) -> 0.99760082
A13: 34639 | B13: 1292.788 | C13: 1299.125 | D13: 1.0049014 | G13: Nov | I13: 1.0034502 | J13: 1.002758 | K13: 1.0019046 | M13: =AVERAGE(H13:K13) -> 1.0027043
A14: 34669 | B14: 1294.816 | C14: 1300.882 | D14: 1.0046851 | G14: Dec | I14: 1.0018721 | J14: 1.0021575 | K14: 1.0026956 | M14: =AVERAGE(H14:K14) -> 1.0022418
A15: 34700 | B15: 1281.729 | C15: 1300.443 | D15: 1.0146009
A16: 34731 | B16: 1281.061 | C16: 1302.328 | D16: 1.0166013
A17: 34759 | B17: 1305.454 | C17: 1313.044 | D17: 1.0058141
A18: 34790 | B18: 1307.824 | C18: 1322.777 | D18: 1.0114332
A19: 34820 | B19: 1319.181 | C19: 1317.677 | D19: 0.99885975
A20: 34851 | B20: 1342.487 | C20: 1325.517 | D20: 0.98735914
A21: 34881 | B21: 1382.483 | C21: 1348.489 | D21: 0.97541031
A22: 34912 | B22: 1382.582 | C22: 1356.451 | D22: 0.98109948
A23: 34943 | B23: 1354.733 | C23: 1353.406 | D23: 0.99902084
A24: 34973 | B24: 1353.252 | C24: 1354.783 | D24: 1.0011316
A25: 35004 | B25: 1348.808 | C25: 1355.419 | D25: 1.0049014
A26: 35034 | B26: 1352.264 | C26: 1358.6 | D26: 1.0046851
... A96: 37165 | B96: 1535.16 | C96: 1536.897 | D96: 1.0011316
A97: 37196 | B97: 1520.149 | C97: 1527.6 | D97: 1.0049014 | Q97: Old Data
A98: 37226 | B98: 1516.199 | C98: 1523.302 | D98: 1.0046851 | Q98: סה"כ | R98: J מנהל ציבורי | S98: K חינוך | T98: L שירותי בריאות, רווחה וסעד | U98: M שירותים קהילתיים, חברתיים ואישיים
A99: 37257 | B99: 1509.286 | C99: 1531.323 | D99: 1.0146009 | Q99: 2308.6 | R99: 102.9 | S99: 331.8 | T99: 257.4 | U99: 123.3
A100: 37288 | B100: 1504.842 | C100: 1529.824 | D100: 1.0166013 | Q100: 2307.6 | R100: 102.8 | S100: 334.6 | T100: 258 | U100: 123.6
A101: 37316 | B101: 1521.729 | C101: 1530.577 | D101: 1.0058141 | Q101: 2320.5 | R101: 103.1 | S101: 329.8 | T101: 258.8 | U101: 125.3
A102: 37347 | B102: 1508.101 | C102: 1525.343 | D102: 1.0114332 | Q102: 2312 | R102: 103.8 | S102: 330.7 | T102: 260.4 | U102: 126.4
A103: 37377 | B103: 1536.543 | C103: 1534.79 | D103: 0.99885975 | Q103: 2348.5 | R103: 104.1 | S103: 335.6 | T103: 261.7 | U103: 127.1
A104: 37408 | B104: 1556.59 | C104: 1536.913 | D104: 0.98735914 | Q104: 2380.9 | R104: 106 | S104: 344.5 | T104: 263.8 | U104: 126.5
A105: 37438 | B105: 1581.97 | C105: 1543.07 | D105: 0.97541031 | Q105: 2392.3 | R105: 106.7 | S105: 327.7 | T105: 264 | U105: 131.1
A106: 37469 | B106: 1569.033 | C106: 1539.378 | D106: 0.98109948 | Q106: 2345.1 | R106: 105.3 | S106: 306.8 | T106: 261.6 | U106: 117.8
A107: 37500 | B107: 1530.913 | C107: 1529.414 | D107: 0.99902084 | Q107: 2276.1 | R107: 104.8 | S107: 279.2 | T107: 259.6 | U107: 117.5
A108: 37530 | B108: 1540.098 | C108: 1541.84 | D108: 1.0011316 | Q108: 2318.2 | R108: 105.6 | S108: 301.2 | T108: 264.9 | U108: 122.8
A109: 37561 | B109: 1521.828 | C109: 1529.287 | D109: 1.0049014 | Q109: 2318.6 | R109: 105.5 | S109: 316.7 | T109: 265.4 | U109: 125.8
...

Sheet MONTHLY
B1: imp | D1: imp | E1: im2006 | F1: PM2006 | G1: im1000 | H1: pm1000 | I1: imp | J1: im2006 | K1: PM2006 | L1: im1000 | M1: pm1000
B2: 2011=100 | E2: תשומה | F2: מ תשומה | G2: צריכה | H2: מ.צריכה | J2: תשומה | K2: מ תשומה | L2: צריכה | M2: מ.צריכה
A3: 27425 | B3: =(I3/(SUM($I$435:$I$446)/12))*100 -> 11.882409 | D3: =+(E3/F3+G3/H3) -> 3.22022 | E3: 198.2 | F3: 69.4 | G3: 29.4 | H3: 80.7 | I3: =+(J3/K3+L3/M3) -> 3.5474534 | J3: 198.2 | K3: =F3*(K$289/F$289) -> 63.190364 | L3: 32.368238 | M3: =H3*(M$289/H$289) -> 78.77416
A4: 27453 | B4: =(I4/(SUM($I$435:$I$446)/12))*100 -> 11.536496 | D4: =+(E4/F4+G4/H4) -> 3.125768 | E4: 189.1 | F4: 68.868 | G4: 30.1 | H4: 79.224 | I4: =+(J4/K4+L4/M4) -> 3.4441822 | J4: 189.1 | K4: =F4*(K$289/F$289) -> 62.705965 | L4: 33.13891 | M4: =H4*(M$289/H$289) -> 77.333384
A5: 27484 | B5: =(I5/(SUM($I$435:$I$446)/12))*100 -> 10.81883 | D5: =+(E5/F5+G5/H5) -> 2.9314653 | E5: 176.3 | F5: 68.318 | G5: 27.3 | H5: 77.803 | I5: =+(J5/K5+L5/M5) -> 3.2299255 | J5: 176.3 | K5: =F5*(K$289/F$289) -> 62.205177 | L5: 30.056221 | M5: =H5*(M$289/H$289) -> 75.946295
A6: 27514 | B6: =(I6/(SUM($I$435:$I$446)/12))*100 -> 11.638922 | D6: =+(E6/F6+G6/H6) -> 3.1544331 | E6: 190.1 | F6: 67.772 | G6: 26.7 | H6: 76.408 | I6: =+(J6/K6+L6/M6) -> 3.4747612 | J6: 190.1 | K6: =F6*(K$289/F$289) -> 61.708031 | L6: 29.395644 | M6: =H6*(M$289/H$289) -> 74.584586
A7: 27545 | B7: =(I7/(SUM($I$435:$I$446)/12))*100 -> 10.629976 | C7: Bank Israel | D7: =+(E7/F7+G7/H7) -> 2.8799952 | E7: 169.7 | F7: 67.23 | G7: 26.7 | H7: 75.037 | I7: =+(J7/K7+L7/M7) -> 3.1735438 | J7: 169.7 | K7: =F7*(K$289/F$289) -> 61.214527 | L7: 29.395644 | M7: =H7*(M$289/H$289) -> 73.246303
A8: 27575 | B8: =(I8/(SUM($I$435:$I$446)/12))*100 -> 11.133703 | C8: 17.01718 | D8: =+(E8/F8+G8/H8) -> 3.017335 | E8: 178.4 | F8: 66.649 | G8: 23.9 | H8: 70.165 | I8: =+(J8/K8+L8/M8) -> 3.3239298 | J8: 178.4 | K8: =F8*(K$289/F$289) -> 60.685512 | L8: 26.312955 | M8: =H8*(M$289/H$289) -> 68.49057
A9: 27606 | B9: =(I9/(SUM($I$435:$I$446)/12))*100 -> 10.802944 | C9: 16.45019 | D9: =+(E9/F9+G9/H9) -> 2.9254302 | E9: 165.9 | F9: 66.073 | G9: 27.2 | H9: 65.61 | I9: =+(J9/K9+L9/M9) -> 3.2251829 | J9: 165.9 | K9: =F9*(K$289/F$289) -> 60.161051 | L9: 29.946125 | M9: =H9*(M$289/H$289) -> 64.044271
A10: 27637 | B10: =(I10/(SUM($I$435:$I$446)/12))*100 -> 10.830685 | C10: 16.41902 | D10: =+(E10/F10+G10/H10) -> 2.9339086 | E10: 167.3 | F10: 65.502 | G10: 23.3 | H10: 61.35 | I10: =+(J10/K10+L10/M10) -> 3.2334646 | J10: 167.3 | K10: =F10*(K$289/F$289) -> 59.641141 | L10: 25.652379 | M10: =H10*(M$289/H$289) -> 59.885932
A11: 27667 | B11: =(I11/(SUM($I$435:$I$446)/12))*100 -> 10.349798 | C11: 15.09419 | D11: =+(E11/F11+G11/H11) -> 2.8033303 | E11: 156 | F11: 64.228 | G11: 23 | H11: 61.418 | I11: =+(J11/K11+L11/M11) -> 3.0898975 | J11: 156 | K11: =F11*(K$289/F$289) -> 58.481134 | L11: 25.322091 | M11: =H11*(M$289/H$289) -> 59.95231
A12: 27698 | B12: =(I12/(SUM($I$435:$I$446)/12))*100 -> 10.875881 | C12: 17.25795 | D12: =+(E12/F12+G12/H12) -> 2.9463488 | E12: 162 | F12: 62.979 | G12: 23 | H12: 61.487 | I12: =+(J12/K12+L12/M12) -> 3.2469578 | J12: 162 | K12: =F12*(K$289/F$289) -> 57.343889 | L12: 25.322091 | M12: =H12*(M$289/H$289) -> 60.019663
A13: 27728 | B13: =(I13/(SUM($I$435:$I$446)/12))*100 -> 9.8731892 | C13: 15.27689 | D13: =+(E13/F13+G13/H13) -> 2.6731375 | E13: 140.5 | F13: 61.755 | G13: 24.5 | H13: 61.555 | I13: =+(J13/K13+L13/M13) -> 2.9476076 | J13: 140.5 | K13: =F13*(K$289/F$289) -> 56.229408 | L13: 26.973531 | M13: =H13*(M$289/H$289) -> 60.08604
A14: 27759 | B14: =(I14/(SUM($I$435:$I$446)/12))*100 -> 12.992721 | C14: 19.80883 | D14: =+(E14/F14+G14/H14) -> 3.5192573 | E14: 188 | F14: 61.605 | G14: 27.8 | H14: 59.458 | I14: =+(J14/K14+L14/M14) -> 3.8789334 | J14: 188 | K14: =F14*(K$289/F$289) -> 56.092829 | L14: 30.606701 | M14: =H14*(M$289/H$289) -> 58.039083
A15: 27790 | B15: =(I15/(SUM($I$435:$I$446)/12))*100 -> 9.9611783 | C15: 15.02837 | D15: =+(E15/F15+G15/H15) -> 2.6949246 | E15: 136.3 | F15: 61.456 | G15: 27.4 | H15: 57.433 | I15: =+(J15/K15+L15/M15) -> 2.9738765 | J15: 136.3 | K15: =F15*(K$289/F$289) -> 55.957161 | L15: 30.166317 | M15: =H15*(M$289/H$289) -> 56.062408
A16: 27819 | B16: =(I16/(SUM($I$435:$I$446)/12))*100 -> 11.686151 | C16: 17.70912 | D16: =+(E16/F16+G16/H16) -> 3.1642517 | E16: 165.7 | F16: 61.307 | G16: 25.6 | H16: 55.476 | I16: =+(J16/K16+L16/M16) -> 3.4888614 | J16: 165.7 | K16: =F16*(K$289/F$289) -> 55.821493 | L16: 28.184588 | M16: =H16*(M$289/H$289) -> 54.152111
A17: 27850 | B17: =(I17/(SUM($I$435:$I$446)/12))*100 -> 11.23352 | C17: 17.03972 | D17: =+(E17/F17+G17/H17) -> 3.0413652 | E17: 159.3 | F17: 61.61 | G17: 26.4 | H17: 57.927 | I17: =+(J17/K17+L17/M17) -> 3.3537299 | J17: 159.3 | K17: =F17*(K$289/F$289) -> 56.097382 | L17: 29.065356 | M17: =H17*(M$289/H$289) -> 56.544619
A18: 27880 | B18: =(I18/(SUM($I$435:$I$446)/12))*100 -> 10.530161 | C18: 16.14798 | D18: =+(E18/F18+G18/H18) -> 2.8517581 | E18: 152 | F18: 61.915 | G18: 24 | H18: 60.487 | I18: =+(J18/K18+L18/M18) -> 3.1437444 | J18: 152 | K18: =F18*(K$289/F$289) -> 56.375092 | L18: 26.423051 | M18: =H18*(M$289/H$289) -> 59.043527
A19: 27911 | B19: =(I19/(SUM($I$435:$I$446)/12))*100 -> 10.390961 | C19: 15.71364 | D19: =+(E19/F19+G19/H19) -> 2.8153957 | E19: 153.9 | F19: 62.222 | G19: 21.6 | H19: 63.159 | I19: =+(J19/K19+L19/M19) -> 3.1021867 | J19: 153.9 | K19: =F19*(K$289/F$289) -> 56.654623 | L19: 23.780746 | M19: =H19*(M$289/H$289) -> 61.651762
... A218: 33969 | B218: =(I218/(SUM($I$435:$I$446)/12))*100 -> 35.676643 | C218: 52.77979 | D218: =+(E218/F218+G218/H218) -> 9.6747327 | E218: 737.6 | F218: 94.229 | G218: 190.1 | H218: 102.924 | I218: =+(J218/K218+L218/M218) -> 10.651142 | J218: 735.3 | K218: =F218*(K$289/F$289) -> 85.797764 | L218: 209.07239 | M218: =H218*(M$289/H$289) -> 100.4678
A219: 34000 | B219: =(I219/(SUM($I$435:$I$446)/12))*100 -> 39.198733 | C219: 54.90785 | D219: 76.5 | E219: 723.9 | F219: 86.921 | G219: 210.6 | H219: 92.923 | I219: =+(J219/K219+L219/M219) -> 11.702651 | J219: 725.9 | K219: =F219*(K$289/F$289) -> 79.143654 | L219: 229.55026 | M219: =H219*(M$289/H$289) -> 90.705469
A220: 34028 | B220: =(I220/(SUM($I$435:$I$446)/12))*100 -> 40.695541 | C220: 56.34808 | D220: =D219*(I220/I219) -> 79.421162 | E220: 766.3 | F220: 85.927 | G220: 192.6 | H220: 92.656 | I220: =+(J220/K220+L220/M220) -> 12.149518 | J220: 767.8 | K220: =F220*(K$289/F$289) -> 78.238593 | L220: 211.27431 | M220: =H220*(M$289/H$289) -> 90.44484
A221: 34059 | B221: =(I221/(SUM($I$435:$I$446)/12))*100 -> 41.767094 | C221: 58.10116 | D221: =D220*(I221/I220) -> 81.512398 | E221: 757.5 | F221: 86.158 | G221: 223.9 | H221: 92.771 | I221: =+(J221/K221+L221/M221) -> 12.469426 | J221: 764 | K221: =F221*(K$289/F$289) -> 78.448925 | L221: 247.27572 | M221: =H221*(M$289/H$289) -> 90.557096
A222: 34089 | B222: =(I222/(SUM($I$435:$I$446)/12))*100 -> 39.208016 | C222: 54.11872 | D222: =D221*(I222/I221) -> 76.518117 | E222: 748 | F222: 86.39 | G222: 178 | H222: 92.886 | I222: =+(J222/K222+L222/M222) -> 11.705422 | J222: 751.5 | K222: =F222*(K$289/F$289) -> 78.660166 | L222: 195.09019 | M222: =H222*(M$289/H$289) -> 90.669352
A223: 34120 | B223: =(I223/(SUM($I$435:$I$446)/12))*100 -> 39.58424 | C223: 54.90624 | D223: =D222*(I223/I222) -> 77.252353 | E223: 741.2 | F223: 86.622 | G223: 208.1 | H223: 93.001 | I223: =+(J223/K223+L223/M223) -> 11.817742 | J223: 733.7 | K223: =F223*(K$289/F$289) -> 78.871408 | L223: 228.3392 | M223: =H223*(M$289/H$289) -> 90.781607
A224: 34150 | B224: =(I224/(SUM($I$435:$I$446)/12))*100 -> 40.307775 | C224: 55.50111 | D224: =D223*(I224/I223) -> 78.664399 | E224: 754.4 | F224: 86.123 | G224: 193.1 | H224: 92.461 | I224: =+(J224/K224+L224/M224) -> 12.033751 | J224: 759.8 | K224: =F224*(K$289/F$289) -> 78.417056 | L224: 211.6046 | M224: =H224*(M$289/H$289) -> 90.254494
A225: 34181 | B225: =(I225/(SUM($I$435:$I$446)/12))*100 -> 38.335107 | C225: 53.52778 | D225: =D224*(I225/I224) -> 74.814554 | E225: 690.5 | F225: 85.626 | G225: 205.7 | H225: 91.924 | I225: =+(J225/K225+L225/M225) -> 11.444818 | J225: 693.7 | K225: =F225*(K$289/F$289) -> 77.964526 | L225: 228.55939 | M225: =H225*(M$289/H$289) -> 89.730309
A226: 34212 | B226: =(I226/(SUM($I$435:$I$446)/12))*100 -> 42.142719 | C226: 58.51621 | D226: =D225*(I226/I225) -> 82.245465 | E226: 761.6 | F226: 85.132 | G226: 237.5 | H226: 91.39 | I226: =+(J226/K226+L226/M226) -> 12.581568 | J226: 755.9 | K226: =F226*(K$289/F$289) -> 77.514727 | L226: 252.45023 | M226: =H226*(M$289/H$289) -> 89.209052
A227: 34242 | B227: =(I227/(SUM($I$435:$I$446)/12))*100 -> 42.861379 | C227: 59.3754 | D227: =D226*(I227/I226) -> 83.647998 | E227: 775.3 | F227: 84.993 | G227: 194.6 | H227: 91.914 | I227: =+(J227/K227+L227/M227) -> 12.796121 | J227: 793.6 | K227: =F227*(K$289/F$289) -> 77.388164 | L227: 228.00891 | M227: =H227*(M$289/H$289) -> 89.720548
A228: 34273 | B228: =(I228/(SUM($I$435:$I$446)/12))*100 -> 41.143111 | C228: 57.07406 | D228: =D227*(I228/I227) -> 80.294636 | E228: 765.4 | F228: 84.854 | G228: 221.4 | H228: 92.442 | I228: =+(J228/K228+L228/M228) -> 12.283138 | J228: 745.4 | K228: =F228*(K$289/F$289) -> 77.261601 | L228: 237.80746 | M228: =H228*(M$289/H$289) -> 90.235947
A229: 34303 | B229: =(I229/(SUM($I$435:$I$446)/12))*100 -> 43.19402 | C229: 59.94081 | D229: =D228*(I229/I228) -> 84.297177 | E229: 777.4 | F229: 84.716 | G229: 232.8 | H229: 92.973 | I229: =+(J229/K229+L229/M229) -> 12.89543 | J229: 777.7 | K229: =F229*(K$289/F$289) -> 77.135949 | L229: 255.31273 | M229: =H229*(M$289/H$289) -> 90.754275
A230: 34334 | B230: =(I230/(SUM($I$435:$I$446)/12))*100 -> 41.990242 | C230: 58.0969 | D230: =D229*(I230/I229) -> 81.947892 | E230: 747.1 | F230: 84.554 | G230: 233.1 | H230: 92.082 | I230: =+(J230/K230+L230/M230) -> 12.536046 | J230: 745.6 | K230: =F230*(K$289/F$289) -> 76.988444 | L230: 256.3036 | M230: =H230*(M$289/H$289) -> 89.884538
A231: 34365 | B231: =(I231/(SUM($I$435:$I$446)/12))*100 -> 47.203523 | C231: 65.76616 | D231: =D230*(I231/I230) -> 92.122097 | E231: 837.8 | F231: 84.393 | G231: 254 | H231: 91.199 | I231: =+(J231/K231+L231/M231) -> 14.092454 | J231: 843.6 | K231: =F231*(K$289/F$289) -> 76.84185 | L231: 277.22184 | M231: =H231*(M$289/H$289) -> 89.02261
... A277: 35764 | B277: =(I277/(SUM($I$435:$I$446)/12))*100 -> 59.210753 | C277: 81.86616 | D277: =D276*(I277/I276) -> 115.55533 | E277: 1109.9 | F277: 89.935 | G277: 324.9 | H277: 91.968 | I277: =+(J277/K277+L277/M277) -> 17.677172 | J277: 1106 | K277: =F277*(K$289/F$289) -> 81.887974 | L277: 374.43665 | M277: =H277*(M$289/H$289) -> 89.773259
A278: 35795 | B278: =(I278/(SUM($I$435:$I$446)/12))*100 -> 60.937006 | C278: 83.53047 | D278: =D277*(I278/I277) -> 118.92428 | E278: 1131.1 | F278: 89.726 | G278: 354.7 | H278: 90.684 | I278: =+(J278/K278+L278/M278) -> 18.192539 | J278: 1121.2 | K278: =F278*(K$289/F$289) -> 81.697674 | L278: 395.57509 | M278: =H278*(M$289/H$289) -> 88.5199 | U278: תשומות
A279: 35826 | B279: =(I279/(SUM($I$435:$I$446)/12))*100 -> 60.760769 | C279: 84.40264 | D279: =D278*(I279/I278) -> 118.58033 | E279: 1084.8 | F279: 89.519 | G279: 306.4 | H279: 89.418 | I279: =+(J279/K279+L279/M279) -> 18.139924 | J279: 1139.6 | K279: =F279*(K$289/F$289) -> 81.509196 | L279: 362.98667 | M279: =H279*(M$289/H$289) -> 87.284113
A280: 35854 | B280: =(I280/(SUM($I$435:$I$446)/12))*100 -> 56.924657 | C280: 78.61295 | D280: =D279*(I280/I279) -> 111.0938 | E280: 1039.5 | F280: 89.312 | G280: 294.8 | H280: 88.169 | I280: =+(J280/K280+L280/M280) -> 16.994666 | J280: 1066.4 | K280: =F280*(K$289/F$289) -> 81.320717 | L280: 334.0314 | M280: =H280*(M$289/H$289) -> 86.064919 | W280: =R280-S280 -> 0
A281: 35885 | B281: =(I281/(SUM($I$435:$I$446)/12))*100 -> 62.395509 | C281: 88.49393 | D281: =D280*(I281/I280) -> 121.77068 | E281: 1186.8 | F281: 88.976 | G281: 379.2 | H281: 88.209 | I281: =+(J281/K281+L281/M281) -> 18.62797 | J281: 1158.7 | K281: =F281*(K$289/F$289) -> 81.014781 | L281: 372.45493 | M281: =H281*(M$289/H$289) -> 86.103964 | W281: =R281-S281 -> 0
A282: 35915 | B282: =(I282/(SUM($I$435:$I$446)/12))*100 -> 58.898257 | C282: 81.21339 | D282: =D281*(I282/I281) -> 114.94547 | E282: 1067.7 | F282: 88.642 | G282: 342.3 | H282: 88.248 | I282: =+(J282/K282+L282/M282) -> 17.583877 | J282: 1056 | K282: =F282*(K$289/F$289) -> 80.710666 | L282: 387.64818 | M282: =H282*(M$289/H$289) -> 86.142034 | W282: =R282-S282 -> 0
A283: 35946 | B283: =(I283/(SUM($I$435:$I$446)/12))*100 -> 56.824773 | C283: 78.90706 | D283: =D282*(I283/I282) -> 110.89887 | E283: 1040.7 | F283: 88.309 | G283: 292.1 | H283: 88.288 | I283: =+(J283/K283+L283/M283) -> 16.964846 | J283: 1046.9 | K283: =F283*(K$289/F$289) -> 80.407462 | L283: 339.97659 | M283: =H283*(M$289/H$289) -> 86.181079 | W283: =R283-S283 -> 0
...

Sheet QUARTERLY
B1: Pimp_inp | C1: Pimp_con
A5: 27454.1
A6: 27546
A7: 27638
A8: 27729
A9: 27820
A10: 27912
A11: 28004
A12: 28095
A13: 28185
A14: 28277
A15: 28369
A16: 28460
... A95: 35674
A96: 35765 | L96: מקדם מחירים לשנת 2011=100 | Q96: מקדם מחירים לשנת 2011=100 | X96: מקדם מחירים לשנת 2005=100 | AB96: מקדם מחירים לשנת 2000=100
A97: 35855 | K97: 1.006381 | L97: 0.97006548 | P97: 0.8713355 | Q97: 0.88039867 | W97: 0.85046 | X97: 0.922124 | Z97: =100/83.41 -> 1.198897 | AA97: =100/84.05 -> 1.189768
A98: 35947 | L98: בסיס 2005=100 | Q98: בסיס 2005=100 | X98: בסיס 2000=100 | AB98: בסיס ישן
A99: 36008 | K99: חומרי גלם | L99: צריכה | P99: חומרי גלם | Q99: צריכה | W99: חומרי גלם | X99: צריכה | AA99: חומרי גלם | AB99: צריכה
A100: 36100 | B100: =K100*$K$97 -> 77.708669 | C100: =L100*$L$97 -> 85.734009 | K100: 77.215951 | L100: 88.37961 | P100: =W100*$W$97 -> 88.617932 | Q100: =X100*$X$97 -> 100.3859 | W100: 104.2 | X100: =AB100*$AA$97 -> 108.86377 | AA100: 86.9 | AB100: 91.5
A101: 36192 | B101: =K101*$K$97 -> 74.835745 | C101: =L101*$L$97 -> 83.578946 | K101: 74.361243 | L101: 86.158046 | P101: =W101*$W$97 -> 85.341688 | Q101: =X101*$X$97 -> 97.862535 | W101: =AA101*$Z$97 -> 100.34768 | X101: =AB101*$AA$97 -> 106.12731 | AA101: 83.7 | AB101: 89.2
A102: 36281 | B102: =K102*$K$97 -> 72.958146 | C102: =L102*$L$97 -> 81.517582 | K102: 72.495549 | L102: 84.033072 | P102: =W102*$W$97 -> 83.200499 | Q102: =X102*$X$97 -> 95.448885 | W102: =AA102*$Z$97 -> 97.829996 | X102: =AB102*$AA$97 -> 103.50982 | AA102: 81.6 | AB102: 87
A103: 36373 | B103: =K103*$K$97 -> 73.584012 | C103: =L103*$L$97 -> 81.798677 | K103: 73.117447 | L103: 84.322841 | P103: =W103*$W$97 -> 83.914229 | Q103: =X103*$X$97 -> 95.778019 | W103: =AA103*$Z$97 -> 98.669224 | X103: =AB103*$AA$97 -> 103.86675 | AA103: 82.3 | AB103: 87.3
A104: 36465 | B104: =K104*$K$97 -> 74.299288 | C104: =L104*$L$97 -> 82.079772 | K104: 73.828187 | L104: 84.61261 | P104: =W104*$W$97 -> 84.72992 | Q104: =X104*$X$97 -> 96.107153 | W104: =AA104*$Z$97 -> 99.628342 | X104: =AB104*$AA$97 -> 104.22368 | AA104: 83.1 | AB104: 87.6
A105: 36557 | B105: =K105*$K$97 -> 74.925154 | C105: =L105*$L$97 -> 80.205805 | K105: 74.450085 | L105: 82.680815 | P105: =W105*$W$97 -> 85.443649 | Q105: =X105*$X$97 -> 93.912926 | W105: =AA105*$Z$97 -> 100.46757 | X105: =AB105*$AA$97 -> 101.84414 | AA105: 83.8 | AB105: 85.6
A106: 36647 | B106: =K106*$K$97 -> 74.925154 | C106: =L106*$L$97 -> 79.175123 | K106: 74.450085 | L106: 81.618328 | P106: =W106*$W$97 -> 85.443649 | Q106: =X106*$X$97 -> 92.706101 | W106: =AA106*$Z$97 -> 100.46757 | X106: =AB106*$AA$97 -> 100.5354 | AA106: 83.8 | AB106: 84.5
A107: 36739 | B107: =K107*$K$97 -> 74.746335 | C107: =L107*$L$97 -> 78.238139 | K107: 74.2724 | L107: 80.652431 | P107: =W107*$W$97 -> 85.239727 | Q107: =X107*$X$97 -> 91.608988 | W107: =AA107*$Z$97 -> 100.22779 | X107: =AB107*$AA$97 -> 99.345628 | AA107: 83.6 | AB107: 83.5
A108: 36831 | B108: =K108*$K$97 -> 73.94165 | C108: =L108*$L$97 -> 77.394854 | K108: 73.472817 | L108: 79.783123 | P108: =W108*$W$97 -> 84.322074 | Q108: =X108*$X$97 -> 90.621585 | W108: =AA108*$Z$97 -> 99.148783 | X108: =AB108*$AA$97 -> 98.274836 | AA108: 82.7 | AB108: 82.6
A109: רבעון ראשון 2001 | B109: =K109*$K$97 -> 75.372202 | C109: =L109*$L$97 -> 78.144441 | K109: 74.894298 | L109: 80.555841 | P109: =W109*$W$97 -> 85.953456 | Q109: =X109*$X$97 -> 91.499276 | W109: =AA109*$Z$97 -> 101.06702 | X109: =AB109*$AA$97 -> 99.226651 | AA109: 84.3 | AB109: 83.4
A110: רבעון שני 2001 | B110: =K110*$K$97 -> 74.299288 | C110: =L110*$L$97 -> 76.738965 | K110: 73.828187 | L110: 79.106995 | P110: =W110*$W$97 -> 84.72992 | Q110: =X110*$X$97 -> 89.853606 | W110: =AA110*$Z$97 -> 99.628342 | X110: =AB110*$AA$97 -> 97.441999 | AA110: 83.1 | AB110: 81.9
A111: רבעון שלישי 2001 | B111: =K111*$K$97 -> 74.209878 | C111: =L111*$L$97 -> 77.582251 | K111: 73.739345 | L111: 79.976303 | P111: =W111*$W$97 -> 84.627958 | Q111: =X111*$X$97 -> 90.841008 | W111: =AA111*$Z$97 -> 99.508452 | X111: =AB111*$AA$97 -> 98.51279 | AA111: 83 | AB111: 82.8
A112: רבעון רביעי 2001 | B112: =K112*$K$97 -> 72.779327 | C112: =L112*$L$97 -> 77.301155 | K112: 72.317863 | L112: 79.686533 | P112: =W112*$W$97 -> 82.996576 | Q112: =X112*$X$97 -> 90.511874 | W112: =AA112*$Z$97 -> 97.590217 | X112: =AB112*$AA$97 -> 98.15586 | AA112: 81.4 | AB112: 82.5
A113: רבעון ראשון 2002 | B113: =K113*$K$97 -> 71.527594 | C113: =L113*$L$97 -> 75.801982 | K113: 71.074067 | L113: 78.141098 | P113: =W113*$W$97 -> 81.569116 | Q113: =X113*$X$97 -> 88.756492 | W113: =AA113*$Z$97 -> 95.911761 | X113: =AB113*$AA$97 -> 96.252231 | AA113: 80 | AB113: 80.9
A114: רבעון שני 2002 | B114: =K114*$K$97 -> 72.600508 | C114: =L114*$L$97 -> 77.301155 | K114: 72.140178 | L114: 79.686533 | P114: =W114*$W$97 -> 82.792653 | Q114: =X114*$X$97 -> 90.511874 | W114: =AA114*$Z$97 -> 97.350438 | X114: =AB114*$AA$97 -> 98.15586 | AA114: 81.2 | AB114: 82.5
A115: רבעון שלישי 2002 | B115: =K115*$K$97 -> 73.762831 | C115: =L115*$L$97 -> 79.268821 | K115: 73.295132 | L115: 81.714918 | P115: =W115*$W$97 -> 84.118151 | Q115: =X115*$X$97 -> 92.815812 | W115: =AA115*$Z$97 -> 98.909004 | X115: =AB115*$AA$97 -> 100.65437 | AA115: 82.5 | AB115: 84.6
A116: רבעון רביעי 2002 | B116: =K116*$K$97 -> 74.478107 | C116: =L116*$L$97 -> 78.425536 | K116: 74.005873 | L116: 80.84561 | P116: =W116*$W$97 -> 84.933842 | Q116: =X116*$X$97 -> 91.82841 | W116: =AA116*$Z$97 -> 99.868121 | X116: =AB116*$AA$97 -> 99.583581 | AA116: 83.3 | AB116: 83.7
A117: רבעון ראשון 2003 | B117: =K117*$K$97 -> 76.713344 | C117: =L117*$L$97 -> 79.92471 | K117: 76.226937 | L117: 82.391046 | P117: =W117*$W$97 -> 87.482877 | Q117: =X117*$X$97 -> 93.583792 | W117: =AA117*$Z$97 -> 102.86536 | X117: =AB117*$AA$97 -> 101.48721 | AA117: 85.8 | AB117: 85.3
A118: רבעון שני 2003 | B118: =K118*$K$97 -> 79.125621 | C118: =L118*$L$97 -> 81.037331 | K118: 78.623919 | L118: 83.538001 | P118: =W118*$W$97 -> 90.233806 | Q118: =X118*$X$97 -> 94.88656 | W118: 106.1 | X118: 102.9
A119: רבעון שלישי 2003 | B119: =K119*$K$97 -> 78.678162 | C119: =L119*$L$97 -> 80.722317 | K119: 78.179297 | L119: 83.213266 | P119: =W119*$W$97 -> 89.72353 | Q119: =X119*$X$97 -> 94.51771 | W119: 105.5 | X119: 102.5
A120: רבעון רביעי 2003 | B120: =K120*$K$97 -> 80.990033 | C120: =L120*$L$97 -> 83.793703 | K120: 80.476509 | L120: 86.37943 | P120: =W120*$W$97 -> 92.359956 | Q120: =X120*$X$97 -> 98.113994 | W120: 108.6 | X120: 106.4
A121: רבעון ראשון 2004 | B121: =K121*$K$97 -> 83.15275 | C121: =L121*$L$97 -> 84.975005 | K121: 82.625513 | L121: 87.597185 | P121: =W121*$W$97 -> 94.82629 | Q121: =X121*$X$97 -> 99.49718 | W121: 111.5 | X121: 107.9
...

Sheet IMPUT SA
A2: Table B 2. - Imports of Raw Materials, by Commodity Group | T2: לוח ב 2.- יבוא חומרי גלם, לפי קבוצת סחורות
A4: Million $ | T4: מיליוני דולרים
C5: יהלומים(1) | D5: חומרי אנרגיה(1) | E5: Raw materials excluding diamonds and fuels | Q5: חומרי גלם ללא יהלומים וחומרי אנרגיה | R5: סך כולל(1)
E6: אחר | F6: מתכות יקרות | G6: ברזל ופלדה | H6: מתכות אל | I6: גומי | J6: כימיקלים | K6: עץ ומוצריו | L6: בדים וחוטים | M6: מוצרי מזון | N6: לתעשיות | O6: לתעשיות | P6: לחקלאות | Q6: סך הכל
H7: ברזליות | I7: ופלסטיקה | M7: גולמיים | N7: מכונות | O7: נייר
N8: ואלקטרוניקה
N9: For machine
F10: Precious | G10: Iron and | H10: Non-ferrous | I10: Rubber and | K10: Wood and | L10: Fabrics | M10: Raw food | N10: and electronics | O10: For paper | P10: For | R10: Grand
C11: Diamonds(1) | D11: Fuels(1) | E11: Other | F11: metals | G11: steel | H11: metals | I11: plastics | J11: Chemicals | K11: its products | L11: and yarn | M11: products | N11: manufacturing | O11: manufacturing | P11: agriculture | Q11: Total | R11: total(1)
C12: Original data | R12: נתונים מקוריים
A13: 2022 | C13: 6290.9 | D13: 14461.5 | E13: 3888.6 | F13: 273 | G13: 4488.9 | H13: 1252.1 | I13: 3870.3 | J13: 7306.1 | K13: 943.3 | L13: 777.3 | M13: 4221.8 | N13: 16019.7 | O13: 1014.3 | P13: 1889.2 | Q13: 45944.6 | R13: 66697 | T13: 2022
A14: 2023 | C14: 4430.1 | D14: 10752.8 | E14: 3429.5 | F14: 262 | G14: 3646.3 | H14: 1040.5 | I14: 2884.8 | J14: 5847.4 | K14: 676.8 | L14: 651 | M14: 3839.3 | N14: 14689.8 | O14: 769.7 | P14: 1445.1 | Q14: 39182.2 | R14: 54365.1 | T14: 2023
A15: % change | C15: -29.579233 | D15: -25.645334 | E15: -11.806306 | F15: -4.029304 | G15: -18.770746 | H15: -16.899609 | I15: -25.463142 | J15: -19.965508 | K15: -28.251882 | L15: -16.248553 | M15: -9.0601165 | N15: -8.3016536 | O15: -24.115153 | P15: -23.507305 | Q15: -14.718596 | R15: -18.489437 | T15: % שינוי
A16: 2023 | B16: I - VII | C16: 3020.5 | D16: 6204.5 | E16: 2106.8 | F16: 157 | G16: 2248.1 | H16: 629 | I16: 1829.4 | J16: 3514.5 | K16: 444.6 | L16: 396 | M16: 2307.4 | N16: 8874.4 | O16: 474.7 | P16: 961.3 | Q16: 23943.2 | R16: 33168.2 | S16: I - VII | T16: 2023
A17: 2024 | B17: I - VII | C17: 2106.2 | D17: 5860.4 | E17: 1967.6 | F17: 197.5 | G17: 1858.7 | H17: 627.8 | I17: 1586.9 | J17: 3415.3 | K17: 327.4 | L17: 387.5 | M17: 2314.4 | N17: 8458.7 | O17: 466.8 | P17: 771.2 | Q17: 22379.6 | R17: 30346.2 | S17: I - VII | T17: 2024
A18: 2023 | B18: VII | C18: 440.6 | D18: 929.8 | E18: 306.9 | F18: 21.9 | G18: 333.1 | H18: 94.1 | I18: 239.7 | J18: 482.6 | K18: 57.3 | L18: 57.1 | M18: 291.3 | N18: 1379.9 | O18: 74.7 | P18: 157.2 | Q18: 3495.8 | R18: 4866.2 | S18: VII | T18: 2023
B19: VIII | C19: 303.9 | D19: 1124.2 | E19: 329.8 | F19: 22.8 | G19: 349 | H19: 96.9 | I19: 236.7 | J19: 446.7 | K19: 69.5 | L19: 57.5 | M19: 347.5 | N19: 1276.7 | O19: 67.3 | P19: 89.5 | Q19: 3389.9 | R19: 4818 | S19: VIII
B20: IX | C20: 341.5 | D20: 737.6 | E20: 265.1 | F20: 20.3 | G20: 278.4 | H20: 78.5 | I20: 199.7 | J20: 415.6 | K20: 38.8 | L20: 52.2 | M20: 308.8 | N20: 1125.3 | O20: 58.4 | P20: 96.1 | Q20: 2937.2 | R20: 4016.3 | S20: IX
B21: X | C21: 162.8 | D21: 1007.4 | E21: 268.5 | F21: 18.7 | G21: 294.1 | H21: 82 | I21: 221.2 | J21: 538.9 | K21: 56.9 | L21: 59.5 | M21: 291.1 | N21: 1145.3 | O21: 62.8 | P21: 117.1 | Q21: 3156.1 | R21: 4326.3 | S21: X
B22: XI | C22: 231.3 | D22: 878.8 | E22: 242 | F22: 22.4 | G22: 243.6 | H22: 80.8 | I22: 212.3 | J22: 473.8 | K22: 39.8 | L22: 45.8 | M22: 302.6 | N22: 1165.1 | O22: 50.9 | P22: 96.2 | Q22: 2975.3 | R22: 4085.4 | S22: XI
B23: XII | C23: 370.1 | D23: 800.3 | E23: 217.3 | F23: 20.8 | G23: 233.1 | H23: 73.3 | I23: 185.5 | J23: 457.9 | K23: 27.2 | L23: 40 | M23: 281.9 | N23: 1103 | O23: 55.6 | P23: 84.9 | Q23: 2780.5 | R23: 3950.9 | S23: XII
A24: 2024 | B24: I | C24: 351.9 | D24: 609.8 | E24: 223.7 | F24: 21.1 | G24: 219.1 | H24: 81.5 | I24: 203.2 | J24: 448.1 | K24: 26.5 | L24: 42.7 | M24: 274.8 | N24: 1223.6 | O24: 63.6 | P24: 127.7 | Q24: 2955.7 | R24: 3917.4 | S24: I | T24: 2024
B25: II | C25: 308 | D25: 1282.1 | E25: 387.4 | F25: 26.6 | G25: 279.6 | H25: 91.2 | I25: 220.5 | J25: 482 | K25: 30.3 | L25: 59.9 | M25: 317.4 | N25: 1162.8 | O25: 63.2 | P25: 102.5 | Q25: 3223.2 | R25: 4813.2 | S25: II
B26: III | C26: 399.9 | D26: 685.4 | E26: 288.3 | F26: 27.9 | G26: 287.3 | H26: 90.8 | I26: 245 | J26: 533.5 | K26: 43.4 | L26: 63.7 | M26: 345.7 | N26: 1284.4 | O26: 70.6 | P26: 87.3 | Q26: 3367.9 | R26: 4453.1 | S26: III
B27: IV | C27: 227.9 | D27: 1099.8 | E27: 216.9 | F27: 24.8 | G27: 177.1 | H27: 69.9 | I27: 202.5 | J27: 434 | K27: 51.5 | L27: 51.3 | M27: 361.1 | N27: 1054.5 | O27: 58.2 | P27: 105.8 | Q27: 2807.6 | R27: 4135.4 | S27: IV
B28: V | C28: 265.5 | D28: 576.7 | E28: 269.2 | F28: 35.4 | G28: 304.5 | H28: 90 | I28: 246.8 | J28: 531.4 | K28: 51.6 | L28: 59.7 | M28: 397.5 | N28: 1252.5 | O28: 68.2 | P28: 122.5 | Q28: 3429.2 | R28: 4271.4 | S28: V
B29: VI | C29: 284.4 | D29: 603.2 | E29: 272.2 | F29: 31.2 | G29: 219.7 | H29: 92.9 | I29: 199.2 | J29: 479.6 | K29: 58.9 | L29: 53 | M29: 289.2 | N29: 1135 | O29: 59 | P29: 125.5 | Q29: 3015.3 | R29: 3903 | S29: VI
B30: VII | C30: 268.6 | D30: 1003.4 | E30: 309.9 | F30: 30.5 | G30: 371.4 | H30: 111.5 | I30: 269.7 | J30: 506.7 | K30: 65.2 | L30: 57.2 | M30: 328.7 | N30: 1345.9 | O30: 84 | P30: 99.9 | Q30: 3580.7 | R30: 4852.7 | S30: VII
C31: Seasonally adjusted data (2) | R31: נתונים מנוכי עונתיות (2)
A32: 2023 | B32: VII | E32: 281.7 | F32: 19.8 | G32: 301.2 | H32: 87.2 | I32: 228.1 | J32: 464.3 | K32: 51.6 | L32: 54.9 | M32: 321.8 | N32: 1324.9 | O32: 64.1 | P32: 158.8 | Q32: 3358.5 | S32: VII | T32: 2023
B33: VIII | E33: 308.3 | F33: 22.4 | G33: 321.1 | H33: 91.7 | I33: 234.2 | J33: 459 | K33: 54.6 | L33: 52.8 | M33: 313.8 | N33: 1221.3 | O33: 61.4 | P33: 105.3 | Q33: 3246.1 | S33: VIII
B34: IX | E34: 285.4 | F34: 20.5 | G34: 306.5 | H34: 85.2 | I34: 223.6 | J34: 456.5 | K34: 47.4 | L34: 54.6 | M34: 305.8 | N34: 1231.1 | O34: 60 | P34: 95.1 | Q34: 3171.8 | S34: IX
B35: X | E35: 273.5 | F35: 19.5 | G35: 294.2 | H35: 82.4 | I35: 223.6 | J35: 518.7 | K35: 53.2 | L35: 56.8 | M35: 292.3 | N35: 1080.4 | O35: 61 | P35: 109.9 | Q35: 3065.3 | S35: X
B36: XI | E36: 243.8 | F36: 22.3 | G36: 230.8 | H36: 82 | I36: 228.9 | J36: 463.3 | K36: 44.4 | L36: 50.6 | M36: 314.7 | N36: 1184.5 | O36: 58.8 | P36: 99.6 | Q36: 3023.7 | S36: XI
B37: XII | E37: 236.3 | F37: 24 | G37: 254 | H37: 83.1 | I37: 206.2 | J37: 452.5 | K37: 33.2 | L37: 49.8 | M37: 318.7 | N37: 1143.1 | O37: 62.5 | P37: 85.2 | Q37: 2948.7 | S37: XII
A38: 2024 | B38: I | E38: 249.2 | F38: 25.9 | G38: 237.8 | H38: 84.7 | I38: 210.3 | J38: 448 | K38: 30.7 | L38: 44.7 | M38: 272.5 | N38: 1178.7 | O38: 63.4 | P38: 122.4 | Q38: 2968.2 | S38: I | T38: 2024
B39: II | E39: 327.6 | F39: 28 | G39: 250.7 | H39: 87.6 | I39: 218.5 | J39: 460 | K39: 35.8 | L39: 52.4 | M39: 328.9 | N39: 1172.9 | O39: 65.7 | P39: 111.7 | Q39: 3139.9 | S39: II
B40: III | E40: 274.3 | F40: 27.5 | G40: 295.4 | H40: 88.6 | I40: 228.9 | J40: 494.4 | K40: 43.4 | L40: 60.7 | M40: 347.9 | N40: 1237.1 | O40: 71.4 | P40: 101.7 | Q40: 3271.4 | S40: III
B41: IV | E41: 251.3 | F41: 28.1 | G41: 215.4 | H41: 78.3 | I41: 216.4 | J41: 486.3 | K41: 48.9 | L41: 54.6 | M41: 372.5 | N41: 1213.6 | O41: 60.7 | P41: 108 | Q41: 3134 | S41: IV
B42: V | E42: 276.4 | F42: 35.1 | G42: 307.1 | H42: 91.2 | I42: 228.6 | J42: 526 | K42: 49 | L42: 55.9 | M42: 364.8 | N42: 1249.9 | O42: 68.8 | P42: 102.6 | Q42: 3355.3 | S42: V
...

Sheet CONSUMPTION SA
A4: Table B 1. - Imports of Consumer Goods, by Commodity Group | M4: לוח ב 1. - יבוא מוצרי צריכה, לפי קבוצת סחורות
A6: Million $ | M6: מיליוני דולרים
A7: מוצרים בני קיימה | E7: מוצרים לצריכה שוטפת | K7: סך כולל
A8: Durable goods | E8: Non-durable goods
A9: אחר | B9: כלי תחבורה | C9: ריהוט ומוצרי | D9: סך הכל | E9: אחר | F9: כלי בית | G9: הלבשה | H9: מזון | I9: תרופות | J9: סך הכל
C10: חשמל ביתיים | G10: והנעלה | H10: ומשקאות
C11: Furniture
C12: and | F12: House- | G12: Clothing | H12: Food
B13: Transport | C13: electrical | F13: hold | G13: and | H13: and | K13: Grand
A14: Other | B14: equipment | C14: equipment | D14: Total | E14: Other | F14: utensils | G14: footwear | H14: beverages | I14: Medicines | J14: Total | K14: total
A15: Original data | K15: נתונים מקוריים
A16: 658.2 | B16: 3768 | C16: 5523.1 | D16: 9949.3 | E16: 4441.9 | F16: 1590.8 | G16: 3501.3 | H16: 4125.8 | I16: 1754.6 | J16: 15414.4 | K16: 25363.7 | M16: 2022
A17: 596.5 | B17: 3417.6 | C17: 4501.9 | D17: 8516 | E17: 4039.9 | F17: 1349.2 | G17: 2879.6 | H17: 3950.7 | I17: 1753.3 | J17: 13972.7 | K17: 22488.7 | M17: 2023
A18: -9.3740504 | B18: -9.2993631 | C18: -18.489616 | D18: -14.406039 | E18: -9.0501812 | F18: -15.187327 | G18: -17.756262 | H18: -4.2440254 | I18: -0.074090961 | J18: -9.3529427 | K18: -11.335097 | L18: change | M18: % שינוי
A19: 372.6 | B19: 1945.8 | C19: 2807.1 | D19: 5125.5 | E19: 2519.7 | F19: 846.8 | G19: 1798.1 | H19: 2389 | I19: 1029.5 | J19: 8583.1 | K19: 13708.6 | L19: I - VII | M19: 2023
A20: 428.7 | B20: 1432.2 | C20: 3086.6 | D20: 4947.3 | E20: 2659.6 | F20: 817.8 | G20: 1734 | H20: 2484 | I20: 1105.2 | J20: 8800.9 | K20: 13748.3 | L20: I - VII | M20: 2024
A21: 59.9 | B21: 322.4 | C21: 390.9 | D21: 773.2 | E21: 368.7 | F21: 123.7 | G21: 264.7 | H21: 312.4 | I21: 131.6 | J21: 1201.1 | K21: 1974.3 | L21: VII | M21: 2023
A22: 54.6 | B22: 217.8 | C22: 374.1 | D22: 646.5 | E22: 359.1 | F22: 132.9 | G22: 299.6 | H22: 333.7 | I22: 123.7 | J22: 1249 | K22: 1895.5 | L22: VIII
A23: 47.5 | B23: 168 | C23: 296.1 | D23: 511.6 | E23: 311.4 | F23: 104.1 | G23: 300.7 | H23: 307.8 | I23: 115.7 | J23: 1139.7 | K23: 1651.3 | L23: IX
A24: 30.2 | B24: 202.7 | C24: 354.3 | D24: 587.2 | E24: 267.3 | F24: 104 | G24: 191.4 | H24: 334.6 | I24: 173 | J24: 1070.3 | K24: 1657.5 | L24: X
A25: 43.7 | B25: 128 | C25: 347.4 | D25: 519.1 | E25: 272.9 | F25: 89.3 | G25: 148.9 | H25: 290.4 | I25: 159.7 | J25: 961.2 | K25: 1480.3 | L25: XI
A26: 47.9 | B26: 755.3 | C26: 322.9 | D26: 1126.1 | E26: 309.5 | F26: 72.1 | G26: 140.9 | H26: 295.2 | I26: 151.7 | J26: 969.4 | K26: 2095.5 | L26: XII
A27: 56.2 | B27: 151.3 | C27: 430.4 | D27: 637.8 | E27: 354.9 | F27: 90.3 | G27: 202.5 | H27: 315.3 | I27: 142.6 | J27: 1105.7 | K27: 1743.5 | L27: I | M27: 2024
A28: 77.9 | B28: 172.8 | C28: 442.6 | D28: 693.3 | E28: 360.5 | F28: 125.2 | G28: 281.1 | H28: 344.1 | I28: 153.7 | J28: 1264.6 | K28: 1957.9 | L28: II
A29: 68.4 | B29: 205.9 | C29: 471.6 | D29: 745.9 | E29: 414.3 | F29: 148.8 | G29: 358.7 | H29: 397.4 | I29: 184 | J29: 1503.1 | K29: 2249.1 | L29: III
A30: 47.1 | B30: 131.9 | C30: 387.5 | D30: 566.5 | E30: 336.3 | F30: 91 | G30: 214.4 | H30: 353.9 | I30: 121.5 | J30: 1117.1 | K30: 1683.6 | L30: IV
A31: 52.1 | B31: 245 | C31: 464.5 | D31: 761.6 | E31: 386.4 | F31: 108.6 | G31: 203.8 | H31: 396.6 | I31: 169 | J31: 1264.6 | K31: 2026.2 | L31: V
A32: 62.9 | B32: 226.1 | C32: 400 | D32: 688.9 | E32: 378.7 | F32: 112.3 | G32: 199.1 | H32: 317.6 | I32: 161.7 | J32: 1169.5 | K32: 1858.4 | L32: VI
A33: 64.1 | B33: 299.2 | C33: 490 | D33: 853.3 | E33: 428.5 | F33: 141.6 | G33: 274.4 | H33: 359.1 | I33: 172.7 | J33: 1376.3 | K33: 2229.6 | L33: VII
A34: Seasonally adjusted data | K34: נתונים מנוכי עונתיות
A35: 51.7 | B35: 314 | C35: 365.1 | D35: 730.8 | E35: 349 | F35: 111.3 | G35: 253.8 | H35: 328.9 | I35: 132.9 | J35: 1176 | K35: 1906.8 | L35: VII | M35: 2023
A36: 57.5 | B36: 271.9 | C36: 378.4 | D36: 707.8 | E36: 355.5 | F36: 110.3 | G36: 239.5 | H36: 323.6 | I36: 131.1 | J36: 1159.9 | K36: 1867.7 | L36: VIII
A37: 49.2 | B37: 239.8 | C37: 354.4 | D37: 643.4 | E37: 341.6 | F37: 111.1 | G37: 248.2 | H37: 326.8 | I37: 139.1 | J37: 1166.8 | K37: 1810.2 | L37: IX
A38: 33.2 | B38: 242.8 | C38: 375.1 | D38: 651 | E38: 284.1 | F38: 103.9 | G38: 168.6 | H38: 320.8 | I38: 154.9 | J38: 1032.2 | K38: 1683.2 | L38: X
A39: 42.8 | B39: 196.7 | C39: 380.4 | D39: 620 | E39: 282.5 | F39: 99.6 | G39: 178.7 | H39: 310.7 | I39: 170.9 | J39: 1042.5 | K39: 1662.4 | L39: XI
A40: 51.7 | B40: 299.3 | C40: 339.2 | D40: 690.1 | E40: 304.2 | F40: 83.1 | G40: 192.2 | H40: 312.4 | I40: 142.4 | J40: 1034.3 | K40: 1724.4 | L40: XII
A41: 63.2 | B41: 190.3 | C41: 391.7 | D41: 645.2 | E41: 342.9 | F41: 94.7 | G41: 216.3 | H41: 316.4 | I41: 140.5 | J41: 1110.9 | K41: 1756 | L41: I | M41: 2024
A42: 72 | B42: 207.5 | C42: 415.1 | D42: 694.6 | E42: 349.6 | F42: 109.1 | G42: 240.3 | H42: 330.8 | I42: 148.5 | J42: 1178.3 | K42: 1872.8 | L42: II
A43: 62.2 | B43: 230.7 | C43: 444.2 | D43: 737.1 | E43: 406.3 | F43: 132.4 | G43: 307.2 | H43: 353.4 | I43: 169.3 | J43: 1368.7 | K43: 2105.8 | L43: III
A44: 52.4 | B44: 185.4 | C44: 388.3 | D44: 626.1 | E44: 363.8 | F44: 106.4 | G44: 235.2 | H44: 348.5 | I44: 146.8 | J44: 1200.7 | K44: 1826.8 | L44: IV
...
